BEGIN:VCALENDAR
VERSION:2.0
PRODID:-//TC Waldershof - ECPv6.15.20//NONSGML v1.0//EN
CALSCALE:GREGORIAN
METHOD:PUBLISH
X-WR-CALNAME:TC Waldershof
X-ORIGINAL-URL:https://tcwaldershof.de
X-WR-CALDESC:Veranstaltungen für TC Waldershof
REFRESH-INTERVAL;VALUE=DURATION:PT1H
X-Robots-Tag:noindex
X-PUBLISHED-TTL:PT1H
BEGIN:VTIMEZONE
TZID:UTC
BEGIN:STANDARD
TZOFFSETFROM:+0000
TZOFFSETTO:+0000
TZNAME:UTC
DTSTART:20250101T000000
END:STANDARD
END:VTIMEZONE
BEGIN:VEVENT
DTSTART;TZID=UTC:20260502T090000
DTEND;TZID=UTC:20260502T130000
DTSTAMP:20260421T230448
CREATED:20260317T055618Z
LAST-MODIFIED:20260317T055618Z
UID:2160-1777712400-1777726800@tcwaldershof.de
SUMMARY:Junioren 18 (A)
DESCRIPTION:TCL Michelfeld – TeG Steinwald-Fichtelgebirge
URL:https://tcwaldershof.de/event/junioren-18-a/
LOCATION:TCL Michelfeld\, Veldensteiner Forstweg 12\, Auerbach in der Oberpfalz\, Bayern\, 91275\, Germany
CATEGORIES:Junioren 18 Nordliga 3 Gr. 337
END:VEVENT
BEGIN:VEVENT
DTSTART;TZID=UTC:20260502T090000
DTEND;TZID=UTC:20260502T130000
DTSTAMP:20260421T230448
CREATED:20260317T062737Z
LAST-MODIFIED:20260421T145649Z
UID:2188-1777712400-1777726800@tcwaldershof.de
SUMMARY:Juniorinnen 18 (Heim)
DESCRIPTION:TeG Steinwald-Fichtelgebirge – TV Floß \nWegbeschreibung zum Tennisclub Waldershof:
URL:https://tcwaldershof.de/event/juniorinnen-18-heim/
LOCATION:TC Waldershof\, Rodenzennreuther Str. 20\, Waldershof\, Bayern\, 95679\, Germany
CATEGORIES:Juniorinnen 18 Nordliga 3 Gr. 420
END:VEVENT
BEGIN:VEVENT
DTSTART;TZID=UTC:20260502T130000
DTEND;TZID=UTC:20260502T180000
DTSTAMP:20260421T230448
CREATED:20260316T152735Z
LAST-MODIFIED:20260421T145609Z
UID:2112-1777726800-1777744800@tcwaldershof.de
SUMMARY:Herren 50 II (Heim)
DESCRIPTION:TeG Steinwald-Fichtelgebirge – TC Tirschenreuth \nWegbeschreibung zum Tennisclub Waldershof:
URL:https://tcwaldershof.de/event/herren-50-ii-heim/
LOCATION:TC Waldershof\, Rodenzennreuther Str. 20\, Waldershof\, Bayern\, 95679\, Germany
CATEGORIES:Herren 50 Nordliga 3 (4er) Gr. 233
END:VEVENT
BEGIN:VEVENT
DTSTART;TZID=UTC:20260502T130000
DTEND;TZID=UTC:20260502T190000
DTSTAMP:20260421T230448
CREATED:20260406T153931Z
LAST-MODIFIED:20260421T145457Z
UID:2263-1777726800-1777748400@tcwaldershof.de
SUMMARY:Herren 50 (Heim)
DESCRIPTION:TeG Steinwald-Fichtelgebirge – TSV Stulln \nWegbeschreibung zum Tennisclub Waldershof:
URL:https://tcwaldershof.de/event/herren-50-heim-5/
LOCATION:TC Waldershof\, Rodenzennreuther Str. 20\, Waldershof\, Bayern\, 95679\, Germany
CATEGORIES:Herren 50 Landesliga 2 Gr. 155 NO
END:VEVENT
BEGIN:VEVENT
DTSTART;TZID=UTC:20260502T140000
DTEND;TZID=UTC:20260502T180000
DTSTAMP:20260421T230448
CREATED:20260316T160526Z
LAST-MODIFIED:20260316T160526Z
UID:2126-1777730400-1777744800@tcwaldershof.de
SUMMARY:Damen 30 II (A)
DESCRIPTION:TC Selbitz – TeG Steinwald-Fichtelgebirge
URL:https://tcwaldershof.de/event/damen-30-ii-a/
LOCATION:TC Selbitz\, Badstr. 34 - Am Hallenbad\, Selbitz\, Bayern\, 95152\, Germany
CATEGORIES:Damen 30 Nordliga 2 (4er) Gr. 282
END:VEVENT
BEGIN:VEVENT
DTSTART;TZID=UTC:20260502T140000
DTEND;TZID=UTC:20260502T190000
DTSTAMP:20260421T230448
CREATED:20260316T130410Z
LAST-MODIFIED:20260421T145050Z
UID:2022-1777730400-1777748400@tcwaldershof.de
SUMMARY:Herren 50 (Heim)
DESCRIPTION:TeG Steinwald-Fichtelgebirge – TSV Stulln \nWegbeschreibung zum Tennisclub Waldershof:
URL:https://tcwaldershof.de/event/herren-50-heim/
LOCATION:TC Waldershof\, Rodenzennreuther Str. 20\, Waldershof\, Bayern\, 95679\, Germany
CATEGORIES:Herren 50 Landesliga 2 Gr. 155 NO
END:VEVENT
END:VCALENDAR