BEGIN:VCALENDAR
VERSION:2.0
PRODID:-//TC Waldershof - ECPv6.15.20//NONSGML v1.0//EN
CALSCALE:GREGORIAN
METHOD:PUBLISH
X-WR-CALNAME:TC Waldershof
X-ORIGINAL-URL:https://tcwaldershof.de
X-WR-CALDESC:Veranstaltungen für TC Waldershof
REFRESH-INTERVAL;VALUE=DURATION:PT1H
X-Robots-Tag:noindex
X-PUBLISHED-TTL:PT1H
BEGIN:VTIMEZONE
TZID:UTC
BEGIN:STANDARD
TZOFFSETFROM:+0000
TZOFFSETTO:+0000
TZNAME:UTC
DTSTART:20250101T000000
END:STANDARD
END:VTIMEZONE
BEGIN:VEVENT
DTSTART;TZID=UTC:20260510T090000
DTEND;TZID=UTC:20260510T130000
DTSTAMP:20260422T031552
CREATED:20260316T143937Z
LAST-MODIFIED:20260316T143938Z
UID:2074-1778403600-1778418000@tcwaldershof.de
SUMMARY:Herren II (A)
DESCRIPTION:Universitäts-SC Bayreuth – TeG Steinwald-Fichtelgebirge
URL:https://tcwaldershof.de/event/herren-ii-a-2/
LOCATION:Universitäts-SC Bayreuth\, Universitätsstr. 30\, Bayreuth\, Bayern\, 95447\, Germany
CATEGORIES:Herren Nordliga 4 Gr. 048
END:VEVENT
BEGIN:VEVENT
DTSTART;TZID=UTC:20260510T090000
DTEND;TZID=UTC:20260510T130000
DTSTAMP:20260422T031552
CREATED:20260316T145636Z
LAST-MODIFIED:20260316T145637Z
UID:2089-1778403600-1778418000@tcwaldershof.de
SUMMARY:Damen (A)
DESCRIPTION:TG Neunkirchen – TeG Steinwald-Fichtelgebirge
URL:https://tcwaldershof.de/event/damen-a-4/
LOCATION:TG Neunkirchen\, An den Weihern 24A\, Weiden in der Oberpfalz\, Bayern\, 92637\, Germany
CATEGORIES:Damen Nordliga 2 Gr. 095
END:VEVENT
BEGIN:VEVENT
DTSTART;TZID=UTC:20260510T100000
DTEND;TZID=UTC:20260510T140000
DTSTAMP:20260422T031552
CREATED:20260316T122516Z
LAST-MODIFIED:20260316T122852Z
UID:2001-1778407200-1778421600@tcwaldershof.de
SUMMARY:Herren (A)
DESCRIPTION:TC Rot-Blau Regensburg II – TeG Steinwald-Fichtelgebirge
URL:https://tcwaldershof.de/event/herren-a-4/
LOCATION:TC Rot-Blau Regensburg II\, Dürerstraße 3\, Regensburg\, Bayern\, 93051\, Germany
CATEGORIES:Herren Landesliga 1 Gr. 122 NO
ORGANIZER;CN="TC Rot-Blau Regensburg":MAILTO:info@tc-rotblau.de
END:VEVENT
BEGIN:VEVENT
DTSTART;TZID=UTC:20260510T150000
DTEND;TZID=UTC:20260510T190000
DTSTAMP:20260422T031552
CREATED:20260318T070041Z
LAST-MODIFIED:20260421T143702Z
UID:2236-1778425200-1778439600@tcwaldershof.de
SUMMARY:Kleinfeld U 8 (Heim)
DESCRIPTION:TeG Steinwald-Fichtelgebirge – TG Parkstein \nAusschreibung U8 Kleinfeld \nWegbeschreibung zum Tennisclub Waldershof:
URL:https://tcwaldershof.de/event/kleinfeld-u-8-heim/
LOCATION:Bayern
CATEGORIES:DunlopKleinfeld U8 Nordliga 1 Gr. 576
END:VEVENT
END:VCALENDAR