BEGIN:VCALENDAR
VERSION:2.0
PRODID:-//TC Waldershof - ECPv6.15.20//NONSGML v1.0//EN
CALSCALE:GREGORIAN
METHOD:PUBLISH
X-WR-CALNAME:TC Waldershof
X-ORIGINAL-URL:https://tcwaldershof.de
X-WR-CALDESC:Veranstaltungen für TC Waldershof
REFRESH-INTERVAL;VALUE=DURATION:PT1H
X-Robots-Tag:noindex
X-PUBLISHED-TTL:PT1H
BEGIN:VTIMEZONE
TZID:UTC
BEGIN:STANDARD
TZOFFSETFROM:+0000
TZOFFSETTO:+0000
TZNAME:UTC
DTSTART:20250101T000000
END:STANDARD
END:VTIMEZONE
BEGIN:VEVENT
DTSTART;TZID=UTC:20260612T150000
DTEND;TZID=UTC:20260612T190000
DTSTAMP:20260422T072107
CREATED:20260317T061634Z
LAST-MODIFIED:20260421T144428Z
UID:2178-1781276400-1781290800@tcwaldershof.de
SUMMARY:Knaben 15 (Heim)
DESCRIPTION:TeG Steinwald-Fichtelgebirge – TC Hof \nWegbeschreibung zum Tennisclub Waldershof:
URL:https://tcwaldershof.de/event/knaben-15-heim-2/
LOCATION:TC Waldershof\, Rodenzennreuther Str. 20\, Waldershof\, Bayern\, 95679\, Germany
CATEGORIES:Knaben 15 Nordliga 4 Gr. 384
END:VEVENT
END:VCALENDAR