BEGIN:VCALENDAR
VERSION:2.0
PRODID:-//TC Waldershof - ECPv6.15.20//NONSGML v1.0//EN
CALSCALE:GREGORIAN
METHOD:PUBLISH
X-ORIGINAL-URL:https://tcwaldershof.de
X-WR-CALDESC:Veranstaltungen für TC Waldershof
REFRESH-INTERVAL;VALUE=DURATION:PT1H
X-Robots-Tag:noindex
X-PUBLISHED-TTL:PT1H
BEGIN:VTIMEZONE
TZID:UTC
BEGIN:STANDARD
TZOFFSETFROM:+0000
TZOFFSETTO:+0000
TZNAME:UTC
DTSTART:20250101T000000
END:STANDARD
END:VTIMEZONE
BEGIN:VEVENT
DTSTART;TZID=UTC:20260628T090000
DTEND;TZID=UTC:20260628T130000
DTSTAMP:20260422T072804
CREATED:20260316T144931Z
LAST-MODIFIED:20260316T144932Z
UID:2082-1782637200-1782651600@tcwaldershof.de
SUMMARY:Herren II (A)
DESCRIPTION:TA Eckersdorf – TeG Steinwald-Fichtelgebirge
URL:https://tcwaldershof.de/event/herren-ii-a-4/
LOCATION:TA Eckersdorf\, An der Robert-Bosch-Str.\, Eckersdorf\, Bayern\, 95488\, Germany
CATEGORIES:Herren Nordliga 4 Gr. 048
END:VEVENT
BEGIN:VEVENT
DTSTART;TZID=UTC:20260628T100000
DTEND;TZID=UTC:20260628T140000
DTSTAMP:20260422T072804
CREATED:20260316T124305Z
LAST-MODIFIED:20260421T142559Z
UID:2014-1782640800-1782655200@tcwaldershof.de
SUMMARY:Herren (Heim)
DESCRIPTION:TeG Steinwald-Fichtelgebirge – TSV Altenfurt \nWegbeschreibung zum Tennisclub Waldershof:
URL:https://tcwaldershof.de/event/herren-heim-6/
LOCATION:TC Waldershof\, Rodenzennreuther Str. 20\, Waldershof\, Bayern\, 95679\, Germany
CATEGORIES:Herren Landesliga 1 Gr. 122 NO
END:VEVENT
BEGIN:VEVENT
DTSTART;TZID=UTC:20260628T150000
DTEND;TZID=UTC:20260628T190000
DTSTAMP:20260422T072804
CREATED:20260318T070417Z
LAST-MODIFIED:20260421T142515Z
UID:2242-1782658800-1782673200@tcwaldershof.de
SUMMARY:Kleinfeld U 8 (Heim)
DESCRIPTION:TeG Steinwald-Fichtelgebirge – TC Postkeller Weiden V \nAusschreibung U8 Kleinfeld \nWegbeschreibung zum Tennisclub Waldershof:
URL:https://tcwaldershof.de/event/kleinfeld-u-8-heim-2/
LOCATION:TC Waldershof\, Rodenzennreuther Str. 20\, Waldershof\, Bayern\, 95679\, Germany
CATEGORIES:DunlopKleinfeld U8 Nordliga 1 Gr. 576
END:VEVENT
END:VCALENDAR