BEGIN:VCALENDAR
VERSION:2.0
PRODID:-//TC Waldershof - ECPv6.15.20//NONSGML v1.0//EN
CALSCALE:GREGORIAN
METHOD:PUBLISH
X-ORIGINAL-URL:https://tcwaldershof.de
X-WR-CALDESC:Veranstaltungen für TC Waldershof
REFRESH-INTERVAL;VALUE=DURATION:PT1H
X-Robots-Tag:noindex
X-PUBLISHED-TTL:PT1H
BEGIN:VTIMEZONE
TZID:UTC
BEGIN:STANDARD
TZOFFSETFROM:+0000
TZOFFSETTO:+0000
TZNAME:UTC
DTSTART:20250101T000000
END:STANDARD
END:VTIMEZONE
BEGIN:VEVENT
DTSTART;TZID=UTC:20260703T150000
DTEND;TZID=UTC:20260703T190000
DTSTAMP:20260422T072939
CREATED:20260317T062238Z
LAST-MODIFIED:20260317T062238Z
UID:2184-1783090800-1783105200@tcwaldershof.de
SUMMARY:Knaben 15 (A)
DESCRIPTION:TC Rehau II – TeG Steinwald-Fichtelgebirge
URL:https://tcwaldershof.de/event/knaben-15-a-3/
LOCATION:TC Rehau\, Schützenstr. 26\, Rehau\, Bayern\, 95111\, Germany
CATEGORIES:Knaben 15 Nordliga 4 Gr. 384
END:VEVENT
BEGIN:VEVENT
DTSTART;TZID=UTC:20260703T150000
DTEND;TZID=UTC:20260703T190000
DTSTAMP:20260422T072939
CREATED:20260318T065921Z
LAST-MODIFIED:20260421T142432Z
UID:2234-1783090800-1783105200@tcwaldershof.de
SUMMARY:Kleinfeld U 9 (Heim)
DESCRIPTION:TeG Steinwald-Fichtelgebirge – TC Lerchenbühl Bayreuth \nAusschreibung U9 Kleinfeld \nWegbeschreibung zum Tennisclub Waldershof:
URL:https://tcwaldershof.de/event/kleinfeld-u-9-heim-3/
LOCATION:TC Waldershof\, Rodenzennreuther Str. 20\, Waldershof\, Bayern\, 95679\, Germany
CATEGORIES:DunlopKleinfeld U9 Nordliga 2 Gr. 554
END:VEVENT
END:VCALENDAR