BEGIN:VCALENDAR
VERSION:2.0
PRODID:-//TC Waldershof - ECPv6.15.20//NONSGML v1.0//EN
CALSCALE:GREGORIAN
METHOD:PUBLISH
X-ORIGINAL-URL:https://tcwaldershof.de
X-WR-CALDESC:Veranstaltungen für TC Waldershof
REFRESH-INTERVAL;VALUE=DURATION:PT1H
X-Robots-Tag:noindex
X-PUBLISHED-TTL:PT1H
BEGIN:VTIMEZONE
TZID:UTC
BEGIN:STANDARD
TZOFFSETFROM:+0000
TZOFFSETTO:+0000
TZNAME:UTC
DTSTART:20250101T000000
END:STANDARD
END:VTIMEZONE
BEGIN:VEVENT
DTSTART;TZID=UTC:20260705T100000
DTEND;TZID=UTC:20260705T140000
DTSTAMP:20260422T072803
CREATED:20260316T124454Z
LAST-MODIFIED:20260421T142150Z
UID:2016-1783245600-1783260000@tcwaldershof.de
SUMMARY:Herren (Heim)
DESCRIPTION:TeG Steinwald-Fichtelgebirge – ASV Burglengenfeld \nWegbeschreibung zum Tennisclub Waldershof:
URL:https://tcwaldershof.de/event/herren-heim-7/
LOCATION:TC Waldershof\, Rodenzennreuther Str. 20\, Waldershof\, Bayern\, 95679\, Germany
CATEGORIES:Herren Landesliga 1 Gr. 122 NO
END:VEVENT
END:VCALENDAR