BEGIN:VCALENDAR
VERSION:2.0
PRODID:-//TC Waldershof - ECPv6.15.20//NONSGML v1.0//EN
CALSCALE:GREGORIAN
METHOD:PUBLISH
X-ORIGINAL-URL:https://tcwaldershof.de
X-WR-CALDESC:Veranstaltungen für TC Waldershof
REFRESH-INTERVAL;VALUE=DURATION:PT1H
X-Robots-Tag:noindex
X-PUBLISHED-TTL:PT1H
BEGIN:VTIMEZONE
TZID:UTC
BEGIN:STANDARD
TZOFFSETFROM:+0000
TZOFFSETTO:+0000
TZNAME:UTC
DTSTART:20250101T000000
END:STANDARD
END:VTIMEZONE
BEGIN:VEVENT
DTSTART;TZID=UTC:20260710T150000
DTEND;TZID=UTC:20260710T190000
DTSTAMP:20260422T111015
CREATED:20260317T062553Z
LAST-MODIFIED:20260317T062553Z
UID:2186-1783695600-1783710000@tcwaldershof.de
SUMMARY:Knaben 15 (A)
DESCRIPTION:SV Neusorg – TeG Steinwald-Fichtelgebirge
URL:https://tcwaldershof.de/event/knaben-15-a-4/
LOCATION:SV Neusorg\, Steinwaldstr. 30\, Neusorg\, Bayern\, 95700\, Germany
CATEGORIES:Knaben 15 Nordliga 4 Gr. 384
END:VEVENT
END:VCALENDAR