BEGIN:VCALENDAR
VERSION:2.0
PRODID:-//TC Waldershof - ECPv6.15.20//NONSGML v1.0//EN
CALSCALE:GREGORIAN
METHOD:PUBLISH
X-ORIGINAL-URL:https://tcwaldershof.de
X-WR-CALDESC:Veranstaltungen für TC Waldershof
REFRESH-INTERVAL;VALUE=DURATION:PT1H
X-Robots-Tag:noindex
X-PUBLISHED-TTL:PT1H
BEGIN:VTIMEZONE
TZID:UTC
BEGIN:STANDARD
TZOFFSETFROM:+0000
TZOFFSETTO:+0000
TZNAME:UTC
DTSTART:20250101T000000
END:STANDARD
END:VTIMEZONE
BEGIN:VEVENT
DTSTART;TZID=UTC:20260711T140000
DTEND;TZID=UTC:20260711T180000
DTSTAMP:20260422T111251
CREATED:20260316T132729Z
LAST-MODIFIED:20260421T142114Z
UID:2038-1783778400-1783792800@tcwaldershof.de
SUMMARY:Herren 50 (Heim)
DESCRIPTION:TeG Steinwald-Fichtelgebirge – TC BW Sulzbach-Rosenberg \nWegbeschreibung zum Tennisclub Waldershof:
URL:https://tcwaldershof.de/event/herren-50-heim-4/
LOCATION:TC Waldershof\, Rodenzennreuther Str. 20\, Waldershof\, Bayern\, 95679\, Germany
CATEGORIES:Herren 50 Landesliga 2 Gr. 155 NO
END:VEVENT
BEGIN:VEVENT
DTSTART;TZID=UTC:20260711T140000
DTEND;TZID=UTC:20260711T180000
DTSTAMP:20260422T111251
CREATED:20260316T141218Z
LAST-MODIFIED:20260421T142025Z
UID:2053-1783778400-1783792800@tcwaldershof.de
SUMMARY:Damen 30 (Heim)
DESCRIPTION:TeG Steinwald-Fichtelgebirge – TC Rückersdorf \nWegbeschreibung zum Tennisclub Waldershof:
URL:https://tcwaldershof.de/event/damen-30-heim-3/
LOCATION:TC Waldershof\, Rodenzennreuther Str. 20\, Waldershof\, Bayern\, 95679\, Germany
CATEGORIES:Damen 30 Landesliga 2 Gr. 191 NO
END:VEVENT
BEGIN:VEVENT
DTSTART;TZID=UTC:20260711T140000
DTEND;TZID=UTC:20260711T180000
DTSTAMP:20260422T111251
CREATED:20260316T143052Z
LAST-MODIFIED:20260316T143053Z
UID:2068-1783778400-1783792800@tcwaldershof.de
SUMMARY:Damen 50 (A)
DESCRIPTION:TC Münchberg – TeG Steinwald-Fichtelgebirge
URL:https://tcwaldershof.de/event/damen-50-a-6/
LOCATION:TC Münchberg\, Schützenstr. 28\, Münchberg\, Bayern\, 95213\, Germany
CATEGORIES:Damen 50 Landesliga 2 (4er) Gr. 203 NO
END:VEVENT
BEGIN:VEVENT
DTSTART;TZID=UTC:20260711T140000
DTEND;TZID=UTC:20260711T180000
DTSTAMP:20260422T111251
CREATED:20260316T162258Z
LAST-MODIFIED:20260316T162259Z
UID:2136-1783778400-1783792800@tcwaldershof.de
SUMMARY:Damen 30 II (A)
DESCRIPTION:TC Rot-Weiß Gefrees – TeG Steinwald-Fichtelgebirge
URL:https://tcwaldershof.de/event/damen-30-ii-a-3/
LOCATION:TC Rot-Weiß Gefrees\, Am Hammerweg 18\, Gefrees\, Bayern\, 95482\, Germany
CATEGORIES:Damen 30 Nordliga 2 (4er) Gr. 282
END:VEVENT
END:VCALENDAR