BEGIN:VCALENDAR
VERSION:2.0
PRODID:-//TC Waldershof - ECPv6.15.20//NONSGML v1.0//EN
CALSCALE:GREGORIAN
METHOD:PUBLISH
X-ORIGINAL-URL:https://tcwaldershof.de
X-WR-CALDESC:Veranstaltungen für TC Waldershof
REFRESH-INTERVAL;VALUE=DURATION:PT1H
X-Robots-Tag:noindex
X-PUBLISHED-TTL:PT1H
BEGIN:VTIMEZONE
TZID:UTC
BEGIN:STANDARD
TZOFFSETFROM:+0000
TZOFFSETTO:+0000
TZNAME:UTC
DTSTART:20250101T000000
END:STANDARD
END:VTIMEZONE
BEGIN:VEVENT
DTSTART;TZID=UTC:20260719T090000
DTEND;TZID=UTC:20260719T130000
DTSTAMP:20260422T111001
CREATED:20260316T145211Z
LAST-MODIFIED:20260421T141332Z
UID:2087-1784451600-1784466000@tcwaldershof.de
SUMMARY:Herren II (Heim)
DESCRIPTION:TeG Steinwald-Fichtelgebirge – TC Schwarzenbach \nWegbeschreibung zum Tennisclub Waldershof:
URL:https://tcwaldershof.de/event/herren-ii-heim-4/
LOCATION:TC Waldershof\, Rodenzennreuther Str. 20\, Waldershof\, Bayern\, 95679\, Germany
CATEGORIES:Herren Nordliga 4 Gr. 048
END:VEVENT
END:VCALENDAR