BEGIN:VCALENDAR
VERSION:2.0
PRODID:-//TC Waldershof - ECPv6.15.20//NONSGML v1.0//EN
CALSCALE:GREGORIAN
METHOD:PUBLISH
X-WR-CALNAME:TC Waldershof
X-ORIGINAL-URL:https://tcwaldershof.de
X-WR-CALDESC:Veranstaltungen für TC Waldershof
REFRESH-INTERVAL;VALUE=DURATION:PT1H
X-Robots-Tag:noindex
X-PUBLISHED-TTL:PT1H
BEGIN:VTIMEZONE
TZID:UTC
BEGIN:STANDARD
TZOFFSETFROM:+0000
TZOFFSETTO:+0000
TZNAME:UTC
DTSTART:20250101T000000
END:STANDARD
END:VTIMEZONE
BEGIN:VEVENT
DTSTART;TZID=UTC:20260502T090000
DTEND;TZID=UTC:20260502T130000
DTSTAMP:20260421T230153
CREATED:20260317T055618Z
LAST-MODIFIED:20260317T055618Z
UID:2160-1777712400-1777726800@tcwaldershof.de
SUMMARY:Junioren 18 (A)
DESCRIPTION:TCL Michelfeld – TeG Steinwald-Fichtelgebirge
URL:https://tcwaldershof.de/event/junioren-18-a/
LOCATION:TCL Michelfeld\, Veldensteiner Forstweg 12\, Auerbach in der Oberpfalz\, Bayern\, 91275\, Germany
CATEGORIES:Junioren 18 Nordliga 3 Gr. 337
END:VEVENT
BEGIN:VEVENT
DTSTART;TZID=UTC:20260502T090000
DTEND;TZID=UTC:20260502T130000
DTSTAMP:20260421T230153
CREATED:20260317T062737Z
LAST-MODIFIED:20260421T145649Z
UID:2188-1777712400-1777726800@tcwaldershof.de
SUMMARY:Juniorinnen 18 (Heim)
DESCRIPTION:TeG Steinwald-Fichtelgebirge – TV Floß \nWegbeschreibung zum Tennisclub Waldershof:
URL:https://tcwaldershof.de/event/juniorinnen-18-heim/
LOCATION:TC Waldershof\, Rodenzennreuther Str. 20\, Waldershof\, Bayern\, 95679\, Germany
CATEGORIES:Juniorinnen 18 Nordliga 3 Gr. 420
END:VEVENT
BEGIN:VEVENT
DTSTART;TZID=UTC:20260502T130000
DTEND;TZID=UTC:20260502T180000
DTSTAMP:20260421T230153
CREATED:20260316T152735Z
LAST-MODIFIED:20260421T145609Z
UID:2112-1777726800-1777744800@tcwaldershof.de
SUMMARY:Herren 50 II (Heim)
DESCRIPTION:TeG Steinwald-Fichtelgebirge – TC Tirschenreuth \nWegbeschreibung zum Tennisclub Waldershof:
URL:https://tcwaldershof.de/event/herren-50-ii-heim/
LOCATION:TC Waldershof\, Rodenzennreuther Str. 20\, Waldershof\, Bayern\, 95679\, Germany
CATEGORIES:Herren 50 Nordliga 3 (4er) Gr. 233
END:VEVENT
BEGIN:VEVENT
DTSTART;TZID=UTC:20260502T130000
DTEND;TZID=UTC:20260502T190000
DTSTAMP:20260421T230153
CREATED:20260406T153931Z
LAST-MODIFIED:20260421T145457Z
UID:2263-1777726800-1777748400@tcwaldershof.de
SUMMARY:Herren 50 (Heim)
DESCRIPTION:TeG Steinwald-Fichtelgebirge – TSV Stulln \nWegbeschreibung zum Tennisclub Waldershof:
URL:https://tcwaldershof.de/event/herren-50-heim-5/
LOCATION:TC Waldershof\, Rodenzennreuther Str. 20\, Waldershof\, Bayern\, 95679\, Germany
CATEGORIES:Herren 50 Landesliga 2 Gr. 155 NO
END:VEVENT
BEGIN:VEVENT
DTSTART;TZID=UTC:20260502T140000
DTEND;TZID=UTC:20260502T180000
DTSTAMP:20260421T230153
CREATED:20260316T160526Z
LAST-MODIFIED:20260316T160526Z
UID:2126-1777730400-1777744800@tcwaldershof.de
SUMMARY:Damen 30 II (A)
DESCRIPTION:TC Selbitz – TeG Steinwald-Fichtelgebirge
URL:https://tcwaldershof.de/event/damen-30-ii-a/
LOCATION:TC Selbitz\, Badstr. 34 - Am Hallenbad\, Selbitz\, Bayern\, 95152\, Germany
CATEGORIES:Damen 30 Nordliga 2 (4er) Gr. 282
END:VEVENT
BEGIN:VEVENT
DTSTART;TZID=UTC:20260502T140000
DTEND;TZID=UTC:20260502T190000
DTSTAMP:20260421T230153
CREATED:20260316T130410Z
LAST-MODIFIED:20260421T145050Z
UID:2022-1777730400-1777748400@tcwaldershof.de
SUMMARY:Herren 50 (Heim)
DESCRIPTION:TeG Steinwald-Fichtelgebirge – TSV Stulln \nWegbeschreibung zum Tennisclub Waldershof:
URL:https://tcwaldershof.de/event/herren-50-heim/
LOCATION:TC Waldershof\, Rodenzennreuther Str. 20\, Waldershof\, Bayern\, 95679\, Germany
CATEGORIES:Herren 50 Landesliga 2 Gr. 155 NO
END:VEVENT
BEGIN:VEVENT
DTSTART;TZID=UTC:20260503T090000
DTEND;TZID=UTC:20260503T130000
DTSTAMP:20260421T230153
CREATED:20260316T143521Z
LAST-MODIFIED:20260316T143521Z
UID:2071-1777798800-1777813200@tcwaldershof.de
SUMMARY:Herren II (A)
DESCRIPTION:BSC Tauperlitz – TeG Steinwald-Fichtelgebirge
URL:https://tcwaldershof.de/event/herren-ii-a/
LOCATION:BSC Tauperlitz\, Quellitzweg 4\, Tauperlitz\, Bayern\, 95182\, Germany
CATEGORIES:Herren Nordliga 4 Gr. 048
END:VEVENT
BEGIN:VEVENT
DTSTART;TZID=UTC:20260508T150000
DTEND;TZID=UTC:20260508T190000
DTSTAMP:20260421T230153
CREATED:20260317T061330Z
LAST-MODIFIED:20260317T061406Z
UID:2174-1778252400-1778266800@tcwaldershof.de
SUMMARY:Knaben 15 (A)
DESCRIPTION:TC Selb – TeG Steinwald-Fichtelgebirge
URL:https://tcwaldershof.de/event/knaben-15-a/
LOCATION:TC Selb\, Hohenberger Str. 37\, Selb\, Bayern\, 95100\, Germany
CATEGORIES:Knaben 15 Nordliga 4 Gr. 384
END:VEVENT
BEGIN:VEVENT
DTSTART;TZID=UTC:20260508T150000
DTEND;TZID=UTC:20260508T190000
DTSTAMP:20260421T230153
CREATED:20260318T065406Z
LAST-MODIFIED:20260421T144858Z
UID:2226-1778252400-1778266800@tcwaldershof.de
SUMMARY:Kleinfeld U 9 (Heim)
DESCRIPTION:TeG Steinwald-Fichtelgebirge – TC Dossenfeld \nAusschreibung U9 Kleinfeld \nWegbeschreibung zum Tennisclub Waldershof:
URL:https://tcwaldershof.de/event/kleinfeld-u-9-heim/
LOCATION:TC Waldershof\, Rodenzennreuther Str. 20\, Waldershof\, Bayern\, 95679\, Germany
CATEGORIES:DunlopKleinfeld U9 Nordliga 2 Gr. 554
END:VEVENT
BEGIN:VEVENT
DTSTART;TZID=UTC:20260509T090000
DTEND;TZID=UTC:20260509T130000
DTSTAMP:20260421T230153
CREATED:20260317T060012Z
LAST-MODIFIED:20260317T060012Z
UID:2163-1778317200-1778331600@tcwaldershof.de
SUMMARY:Junioren 18 (A)
DESCRIPTION:TC Eschenbach – TeG Steinwald-Fichtelgebirge
URL:https://tcwaldershof.de/event/junioren-18-a-2/
LOCATION:TC Eschenbach\, Birschlingweg 20\, Eschenbach\, Bayern\, 92676\, Germany
CATEGORIES:Junioren 18 Nordliga 3 Gr. 337
END:VEVENT
BEGIN:VEVENT
DTSTART;TZID=UTC:20260509T090000
DTEND;TZID=UTC:20260509T130000
DTSTAMP:20260421T230153
CREATED:20260318T054454Z
LAST-MODIFIED:20260421T144819Z
UID:2210-1778317200-1778331600@tcwaldershof.de
SUMMARY:Bambini 12 (Heim)
DESCRIPTION:TeG Steinwald-Fichtelgebirge – DJK Neustadt/WN \nWegbeschreibung zum Tennisclub Waldershof:
URL:https://tcwaldershof.de/event/bambini-12-heim/
LOCATION:TC Waldershof\, Rodenzennreuther Str. 20\, Waldershof\, Bayern\, 95679\, Germany
CATEGORIES:Bambini 12 Nordliga 4 Gr. 489
END:VEVENT
BEGIN:VEVENT
DTSTART;TZID=UTC:20260509T090000
DTEND;TZID=UTC:20260509T190000
DTSTAMP:20260421T230153
CREATED:20260317T062858Z
LAST-MODIFIED:20260317T062858Z
UID:2190-1778317200-1778353200@tcwaldershof.de
SUMMARY:Juniorinnen 18 (A)
DESCRIPTION:DJK Neustadt/WN – TeG Steinwald-Fichtelgebirge
URL:https://tcwaldershof.de/event/juniorinnen-18-a/
LOCATION:DJK Neustadt/WN\, Am Sportplatz 1\, Neustadt\, Bayern\, 92660\, Germany
CATEGORIES:Juniorinnen 18 Nordliga 3 Gr. 420
END:VEVENT
BEGIN:VEVENT
DTSTART;TZID=UTC:20260509T140000
DTEND;TZID=UTC:20260509T180000
DTSTAMP:20260421T230153
CREATED:20260316T130622Z
LAST-MODIFIED:20260421T144720Z
UID:2024-1778335200-1778349600@tcwaldershof.de
SUMMARY:Herren 50 (Heim)
DESCRIPTION:TeG Steinwald-Fichtelgebirge – TSV Fischbach Nürnberg \nWegbeschreibung zum Tennisclub Waldershof:
URL:https://tcwaldershof.de/event/herren-50-heim-2/
LOCATION:TC Waldershof\, Rodenzennreuther Str. 20\, Waldershof\, Bayern\, 95679\, Germany
CATEGORIES:Herren 50 Landesliga 2 Gr. 155 NO
END:VEVENT
BEGIN:VEVENT
DTSTART;TZID=UTC:20260509T140000
DTEND;TZID=UTC:20260509T180000
DTSTAMP:20260421T230153
CREATED:20260316T140130Z
LAST-MODIFIED:20260316T140130Z
UID:2040-1778335200-1778349600@tcwaldershof.de
SUMMARY:Damen 30 (A)
DESCRIPTION:SV Mistelgau – TeG Steinwald-Fichtelgebirge
URL:https://tcwaldershof.de/event/damen-30-a/
LOCATION:SV Mistelgau\, Seitenbacher Str. 5\, Mistelgau\, Bayern\, 95490\, Germany
CATEGORIES:Damen 30 Landesliga 2 Gr. 191 NO
END:VEVENT
BEGIN:VEVENT
DTSTART;TZID=UTC:20260509T140000
DTEND;TZID=UTC:20260509T180000
DTSTAMP:20260421T230153
CREATED:20260316T141456Z
LAST-MODIFIED:20260421T144647Z
UID:2055-1778335200-1778349600@tcwaldershof.de
SUMMARY:Damen 50 (Heim)
DESCRIPTION:TeG Steinwald-Fichtelgebirge – TC Rot-Weiß Bayreuth \nWegbeschreibung zum Tennisclub Waldershof:
URL:https://tcwaldershof.de/event/damen-50-heim-3/
LOCATION:TC Waldershof\, Rodenzennreuther Str. 20\, Waldershof\, Bayern\, 95679\, Germany
CATEGORIES:Damen 50 Landesliga 2 (4er) Gr. 203 NO
END:VEVENT
BEGIN:VEVENT
DTSTART;TZID=UTC:20260509T140000
DTEND;TZID=UTC:20260509T180000
DTSTAMP:20260421T230153
CREATED:20260316T154929Z
LAST-MODIFIED:20260316T154930Z
UID:2114-1778335200-1778349600@tcwaldershof.de
SUMMARY:Herren 50 II (A)
DESCRIPTION:STC Krummennaab – TeG Steinwald-Fichtelgebirge
URL:https://tcwaldershof.de/event/herren-50-ii-a/
LOCATION:STC Krummennaab\, Jahnstr.\, Krummennaab\, Bayern\, 92703\, Germany
CATEGORIES:Herren 50 Nordliga 3 (4er) Gr. 233
END:VEVENT
BEGIN:VEVENT
DTSTART;TZID=UTC:20260509T140000
DTEND;TZID=UTC:20260509T180000
DTSTAMP:20260421T230153
CREATED:20260316T160819Z
LAST-MODIFIED:20260421T144600Z
UID:2128-1778335200-1778349600@tcwaldershof.de
SUMMARY:Damen 30 II (Heim)
DESCRIPTION:TeG Steinwald-Fichtelgebirge – SV Neusorg \nWegbeschreibung zum Tennisclub Waldershof:
URL:https://tcwaldershof.de/event/damen-30-ii-heim/
LOCATION:TC Waldershof\, Rodenzennreuther Str. 20\, Waldershof\, Bayern\, 95679\, Germany
CATEGORIES:Damen 30 Nordliga 2 (4er) Gr. 282
END:VEVENT
BEGIN:VEVENT
DTSTART;TZID=UTC:20260509T140000
DTEND;TZID=UTC:20260509T180000
DTSTAMP:20260421T230153
CREATED:20260316T163533Z
LAST-MODIFIED:20260316T163534Z
UID:2141-1778335200-1778349600@tcwaldershof.de
SUMMARY:Damen 50 II (A)
DESCRIPTION:SpVgg Froschgrund – TeG Steinwald-Fichtelgebirge
URL:https://tcwaldershof.de/event/damen-50-ii-a-4/
LOCATION:SpVgg Froschgrund\, Herrenwiesenweg 8\, Rödental\, Bayern\, 96472\, Germany
CATEGORIES:Damen 50 Nordliga 1 (4er) Gr. 308
END:VEVENT
BEGIN:VEVENT
DTSTART;TZID=UTC:20260510T090000
DTEND;TZID=UTC:20260510T130000
DTSTAMP:20260421T230153
CREATED:20260316T143937Z
LAST-MODIFIED:20260316T143938Z
UID:2074-1778403600-1778418000@tcwaldershof.de
SUMMARY:Herren II (A)
DESCRIPTION:Universitäts-SC Bayreuth – TeG Steinwald-Fichtelgebirge
URL:https://tcwaldershof.de/event/herren-ii-a-2/
LOCATION:Universitäts-SC Bayreuth\, Universitätsstr. 30\, Bayreuth\, Bayern\, 95447\, Germany
CATEGORIES:Herren Nordliga 4 Gr. 048
END:VEVENT
BEGIN:VEVENT
DTSTART;TZID=UTC:20260510T090000
DTEND;TZID=UTC:20260510T130000
DTSTAMP:20260421T230153
CREATED:20260316T145636Z
LAST-MODIFIED:20260316T145637Z
UID:2089-1778403600-1778418000@tcwaldershof.de
SUMMARY:Damen (A)
DESCRIPTION:TG Neunkirchen – TeG Steinwald-Fichtelgebirge
URL:https://tcwaldershof.de/event/damen-a-4/
LOCATION:TG Neunkirchen\, An den Weihern 24A\, Weiden in der Oberpfalz\, Bayern\, 92637\, Germany
CATEGORIES:Damen Nordliga 2 Gr. 095
END:VEVENT
BEGIN:VEVENT
DTSTART;TZID=UTC:20260510T100000
DTEND;TZID=UTC:20260510T140000
DTSTAMP:20260421T230153
CREATED:20260316T122516Z
LAST-MODIFIED:20260316T122852Z
UID:2001-1778407200-1778421600@tcwaldershof.de
SUMMARY:Herren (A)
DESCRIPTION:TC Rot-Blau Regensburg II – TeG Steinwald-Fichtelgebirge
URL:https://tcwaldershof.de/event/herren-a-4/
LOCATION:TC Rot-Blau Regensburg II\, Dürerstraße 3\, Regensburg\, Bayern\, 93051\, Germany
CATEGORIES:Herren Landesliga 1 Gr. 122 NO
ORGANIZER;CN="TC Rot-Blau Regensburg":MAILTO:info@tc-rotblau.de
END:VEVENT
BEGIN:VEVENT
DTSTART;TZID=UTC:20260510T150000
DTEND;TZID=UTC:20260510T190000
DTSTAMP:20260421T230153
CREATED:20260318T070041Z
LAST-MODIFIED:20260421T143702Z
UID:2236-1778425200-1778439600@tcwaldershof.de
SUMMARY:Kleinfeld U 8 (Heim)
DESCRIPTION:TeG Steinwald-Fichtelgebirge – TG Parkstein \nAusschreibung U8 Kleinfeld \nWegbeschreibung zum Tennisclub Waldershof:
URL:https://tcwaldershof.de/event/kleinfeld-u-8-heim/
LOCATION:Bayern
CATEGORIES:DunlopKleinfeld U8 Nordliga 1 Gr. 576
END:VEVENT
BEGIN:VEVENT
DTSTART;TZID=UTC:20260515T150000
DTEND;TZID=UTC:20260515T190000
DTSTAMP:20260421T230153
CREATED:20260317T061525Z
LAST-MODIFIED:20260421T143741Z
UID:2176-1778857200-1778871600@tcwaldershof.de
SUMMARY:Knaben 15 (Heim)
DESCRIPTION:TeG Steinwald-Fichtelgebirge – SV Mitterteich \nWegbeschreibung zum Tennisclub Waldershof:
URL:https://tcwaldershof.de/event/knaben-15-heim/
LOCATION:TC Waldershof\, Rodenzennreuther Str. 20\, Waldershof\, Bayern\, 95679\, Germany
CATEGORIES:Knaben 15 Nordliga 4 Gr. 384
END:VEVENT
BEGIN:VEVENT
DTSTART;TZID=UTC:20260515T150000
DTEND;TZID=UTC:20260515T190000
DTSTAMP:20260421T230153
CREATED:20260318T065515Z
LAST-MODIFIED:20260421T143819Z
UID:2228-1778857200-1778871600@tcwaldershof.de
SUMMARY:Kleinfeld U 9 (Heim)
DESCRIPTION:TeG Steinwald-Fichtelgebirge – TSV Bindlach \nAusschreibung U9 Kleinfeld \nWegbeschreibung zum Tennisclub Waldershof:
URL:https://tcwaldershof.de/event/kleinfeld-u-9-heim-2/
LOCATION:Bayern
CATEGORIES:DunlopKleinfeld U9 Nordliga 2 Gr. 554
END:VEVENT
BEGIN:VEVENT
DTSTART;TZID=UTC:20260516T090000
DTEND;TZID=UTC:20260516T130000
DTSTAMP:20260421T230153
CREATED:20260317T060136Z
LAST-MODIFIED:20260421T143855Z
UID:2166-1778922000-1778936400@tcwaldershof.de
SUMMARY:Junioren 18 (Heim)
DESCRIPTION:TeG Steinwald-Fichtelgebirge – TC Schwarz-Weiß Pegnitz \nWegbeschreibung zum Tennisclub Waldershof:
URL:https://tcwaldershof.de/event/junioren-18-heim/
LOCATION:TC Waldershof\, Rodenzennreuther Str. 20\, Waldershof\, Bayern\, 95679\, Germany
CATEGORIES:Junioren 18 Nordliga 3 Gr. 337
END:VEVENT
BEGIN:VEVENT
DTSTART;TZID=UTC:20260516T090000
DTEND;TZID=UTC:20260516T130000
DTSTAMP:20260421T230153
CREATED:20260317T063358Z
LAST-MODIFIED:20260317T063359Z
UID:2192-1778922000-1778936400@tcwaldershof.de
SUMMARY:Juniorinnen 18 (A)
DESCRIPTION:TC Postkeller Weiden II – TeG Steinwald-Fichtelgebirge
URL:https://tcwaldershof.de/event/juniorinnen-18-a-2/
LOCATION:TC Postkeller Weiden\, Schirmitzer Weg 1\, Weiden\, Bayern\, 92637\, Germany
CATEGORIES:Juniorinnen 18 Nordliga 3 Gr. 420
END:VEVENT
BEGIN:VEVENT
DTSTART;TZID=UTC:20260516T090000
DTEND;TZID=UTC:20260516T130000
DTSTAMP:20260421T230153
CREATED:20260317T064119Z
LAST-MODIFIED:20260317T064119Z
UID:2199-1778922000-1778936400@tcwaldershof.de
SUMMARY:Mixed 18 (A)
DESCRIPTION:TC Michelau – TeG Steinwald-Fichtelgebirge
URL:https://tcwaldershof.de/event/mixed-18-a/
LOCATION:TC Michelau\, Am Sportzentrum 8\, Michelau in Oberfranken\, Bayern\, 96247\, Germany
CATEGORIES:Mixed 18 Nordliga 1 Gr. 446
END:VEVENT
BEGIN:VEVENT
DTSTART;TZID=UTC:20260516T090000
DTEND;TZID=UTC:20260516T130000
DTSTAMP:20260421T230153
CREATED:20260318T054820Z
LAST-MODIFIED:20260318T054831Z
UID:2212-1778922000-1778936400@tcwaldershof.de
SUMMARY:Bambini 12 (A)
DESCRIPTION:TG Parkstein – TeG Steinwald-Fichtelgebirge
URL:https://tcwaldershof.de/event/bambini-12-a/
LOCATION:TG Parkstein\, Polier 20\, Parkstein\, Bayern\, 92711\, Germany
CATEGORIES:Bambini 12 Nordliga 4 Gr. 489
END:VEVENT
BEGIN:VEVENT
DTSTART;TZID=UTC:20260516T140000
DTEND;TZID=UTC:20260516T180000
DTSTAMP:20260421T230153
CREATED:20260316T131213Z
LAST-MODIFIED:20260316T131214Z
UID:2026-1778940000-1778954400@tcwaldershof.de
SUMMARY:Herren 50 (A)
DESCRIPTION:TC Grün-Weiß Furth im Wald – TeG Steinwald-Fichtelgebirge
URL:https://tcwaldershof.de/event/herren-50-a/
LOCATION:TC Grün-Weiß Furth im Wald\, Wutzmühle\, Furth im Wald\, Bayern\, 93437\, Germany
CATEGORIES:Herren 50 Landesliga 2 Gr. 155 NO
END:VEVENT
BEGIN:VEVENT
DTSTART;TZID=UTC:20260516T140000
DTEND;TZID=UTC:20260516T180000
DTSTAMP:20260421T230153
CREATED:20260316T140248Z
LAST-MODIFIED:20260421T143941Z
UID:2043-1778940000-1778954400@tcwaldershof.de
SUMMARY:Damen 30 (Heim)
DESCRIPTION:TeG Steinwald-Fichtelgebirge – TC Dormitz \nWegbeschreibung zum Tennisclub Waldershof:
URL:https://tcwaldershof.de/event/damen-30-heim/
LOCATION:TC Waldershof\, Rodenzennreuther Str. 20\, Waldershof\, Bayern\, 95679\, Germany
CATEGORIES:Damen 30 Landesliga 2 Gr. 191 NO
END:VEVENT
END:VCALENDAR