BEGIN:VCALENDAR
VERSION:2.0
PRODID:-//TC Waldershof - ECPv6.15.20//NONSGML v1.0//EN
CALSCALE:GREGORIAN
METHOD:PUBLISH
X-ORIGINAL-URL:https://tcwaldershof.de
X-WR-CALDESC:Veranstaltungen für TC Waldershof
REFRESH-INTERVAL;VALUE=DURATION:PT1H
X-Robots-Tag:noindex
X-PUBLISHED-TTL:PT1H
BEGIN:VTIMEZONE
TZID:UTC
BEGIN:STANDARD
TZOFFSETFROM:+0000
TZOFFSETTO:+0000
TZNAME:UTC
DTSTART:20250101T000000
END:STANDARD
END:VTIMEZONE
BEGIN:VEVENT
DTSTART;TZID=UTC:20260612T150000
DTEND;TZID=UTC:20260612T190000
DTSTAMP:20260422T032228
CREATED:20260317T061634Z
LAST-MODIFIED:20260421T144428Z
UID:2178-1781276400-1781290800@tcwaldershof.de
SUMMARY:Knaben 15 (Heim)
DESCRIPTION:TeG Steinwald-Fichtelgebirge – TC Hof \nWegbeschreibung zum Tennisclub Waldershof:
URL:https://tcwaldershof.de/event/knaben-15-heim-2/
LOCATION:TC Waldershof\, Rodenzennreuther Str. 20\, Waldershof\, Bayern\, 95679\, Germany
CATEGORIES:Knaben 15 Nordliga 4 Gr. 384
END:VEVENT
BEGIN:VEVENT
DTSTART;TZID=UTC:20260613T090000
DTEND;TZID=UTC:20260613T130000
DTSTAMP:20260422T032228
CREATED:20260317T063556Z
LAST-MODIFIED:20260421T144352Z
UID:2195-1781341200-1781355600@tcwaldershof.de
SUMMARY:Juniorinnen 18 (Heim)
DESCRIPTION:TeG Steinwald-Fichtelgebirge – TG Neunkirchen II \nWegbeschreibung zum Tennisclub Waldershof:
URL:https://tcwaldershof.de/event/juniorinnen-18-heim-2/
LOCATION:TC Waldershof\, Rodenzennreuther Str. 20\, Waldershof\, Bayern\, 95679\, Germany
CATEGORIES:Juniorinnen 18 Nordliga 3 Gr. 420
END:VEVENT
BEGIN:VEVENT
DTSTART;TZID=UTC:20260613T090000
DTEND;TZID=UTC:20260613T130000
DTSTAMP:20260422T032228
CREATED:20260317T064451Z
LAST-MODIFIED:20260317T064452Z
UID:2202-1781341200-1781355600@tcwaldershof.de
SUMMARY:Mixed 18 (A)
DESCRIPTION:TC Siemens Redwitz – TeG Steinwald-Fichtelgebirge
URL:https://tcwaldershof.de/event/mixed-18-a-2/
LOCATION:TC Siemens Redwitz\, Gäßla 22A\, Redwitz an der Rodach\, Bayern\, 96257\, Germany
CATEGORIES:Juniorinnen 18 Nordliga 3 Gr. 420
END:VEVENT
BEGIN:VEVENT
DTSTART;TZID=UTC:20260613T090000
DTEND;TZID=UTC:20260613T130000
DTSTAMP:20260422T032228
CREATED:20260318T054957Z
LAST-MODIFIED:20260421T143546Z
UID:2216-1781341200-1781355600@tcwaldershof.de
SUMMARY:Bambini 12 (Heim)
DESCRIPTION:TeG Steinwald-Fichtelgebirge – TC Postkeller Weiden III \nWegbeschreibung zum Tennisclub Waldershof:
URL:https://tcwaldershof.de/event/bambini-12-heim-2/
LOCATION:TC Waldershof\, Rodenzennreuther Str. 20\, Waldershof\, Bayern\, 95679\, Germany
CATEGORIES:Bambini 12 Nordliga 4 Gr. 489
END:VEVENT
BEGIN:VEVENT
DTSTART;TZID=UTC:20260613T140000
DTEND;TZID=UTC:20260613T180000
DTSTAMP:20260422T032228
CREATED:20260316T140407Z
LAST-MODIFIED:20260421T143509Z
UID:2045-1781359200-1781373600@tcwaldershof.de
SUMMARY:Damen 30 (Heim)
DESCRIPTION:TeG Steinwald-Fichtelgebirge – TC RW Erlangen II \nWegbeschreibung zum Tennisclub Waldershof:
URL:https://tcwaldershof.de/event/damen-30-heim-2/
LOCATION:TC Waldershof\, Rodenzennreuther Str. 20\, Waldershof\, Bayern\, 95679\, Germany
CATEGORIES:Damen 30 Landesliga 2 Gr. 191 NO
END:VEVENT
BEGIN:VEVENT
DTSTART;TZID=UTC:20260613T140000
DTEND;TZID=UTC:20260613T180000
DTSTAMP:20260422T032228
CREATED:20260316T142047Z
LAST-MODIFIED:20260316T142047Z
UID:2059-1781359200-1781373600@tcwaldershof.de
SUMMARY:Damen 50 (A)
DESCRIPTION:SpVgg Stegaurach – TeG Steinwald-Fichtelgebirge
URL:https://tcwaldershof.de/event/damen-50-a-3/
LOCATION:SpVgg Stegaurach\, Mühlendorferstr. 11\, Stegaurach\, Bayern\, 96135\, Germany
CATEGORIES:Damen 50 Landesliga 2 (4er) Gr. 203 NO
END:VEVENT
BEGIN:VEVENT
DTSTART;TZID=UTC:20260613T140000
DTEND;TZID=UTC:20260613T180000
DTSTAMP:20260422T032228
CREATED:20260316T151442Z
LAST-MODIFIED:20260316T151442Z
UID:2104-1781359200-1781373600@tcwaldershof.de
SUMMARY:Herren 40 II (A)
DESCRIPTION:TC Bärnau – TeG Steinwald-Fichtelgebirge
URL:https://tcwaldershof.de/event/herren-40-ii-a/
LOCATION:TC Bärnau\, Steinbergsportanlage\, Bärnau\, Bayern\, 95671\, Germany
CATEGORIES:Herren 40 Nordliga 4 (4er) Gr. 209
END:VEVENT
BEGIN:VEVENT
DTSTART;TZID=UTC:20260613T140000
DTEND;TZID=UTC:20260613T180000
DTSTAMP:20260422T032228
CREATED:20260316T155501Z
LAST-MODIFIED:20260421T143429Z
UID:2120-1781359200-1781373600@tcwaldershof.de
SUMMARY:Herren 50 II (Heim)
DESCRIPTION:TeG Steinwald-Fichtelgebirge – TC Hof \nWegbeschreibung zum Tennisclub Waldershof:
URL:https://tcwaldershof.de/event/herren-50-ii-heim-2/
LOCATION:TC Waldershof\, Rodenzennreuther Str. 20\, Waldershof\, Bayern\, 95679\, Germany
CATEGORIES:Herren 50 Nordliga 3 (4er) Gr. 233
END:VEVENT
BEGIN:VEVENT
DTSTART;TZID=UTC:20260613T140000
DTEND;TZID=UTC:20260613T180000
DTSTAMP:20260422T032228
CREATED:20260316T164021Z
LAST-MODIFIED:20260421T143342Z
UID:2148-1781359200-1781373600@tcwaldershof.de
SUMMARY:Damen 50 II (Heim)
DESCRIPTION:TeG Steinwald-Fichtelgebirge – TC Lichtenfels \nWegbeschreibung zum Tennisclub Waldershof:
URL:https://tcwaldershof.de/event/damen-50-ii-heim-4/
LOCATION:TC Waldershof\, Rodenzennreuther Str. 20\, Waldershof\, Bayern\, 95679\, Germany
CATEGORIES:Damen 50 Nordliga 1 (4er) Gr. 308
END:VEVENT
BEGIN:VEVENT
DTSTART;TZID=UTC:20260614T090000
DTEND;TZID=UTC:20260614T130000
DTSTAMP:20260422T032228
CREATED:20260316T144428Z
LAST-MODIFIED:20260316T144429Z
UID:2079-1781427600-1781442000@tcwaldershof.de
SUMMARY:Herren II (A)
DESCRIPTION:EC Erkersreuth II – TeG Steinwald-Fichtelgebirge
URL:https://tcwaldershof.de/event/herren-ii-a-3/
LOCATION:EC Erkersreuth II\, Hauptstr. 1\, Selb\, Bayern\, 95100\, Germany
CATEGORIES:Herren Nordliga 4 Gr. 048
END:VEVENT
BEGIN:VEVENT
DTSTART;TZID=UTC:20260614T090000
DTEND;TZID=UTC:20260614T130000
DTSTAMP:20260422T032228
CREATED:20260316T150221Z
LAST-MODIFIED:20260421T143302Z
UID:2095-1781427600-1781442000@tcwaldershof.de
SUMMARY:Damen (Heim)
DESCRIPTION:TeG Steinwald-Fichtelgebirge – TC Waldsassen \nWegbeschreibung zum Tennisclub Waldershof:
URL:https://tcwaldershof.de/event/damen-ii-heim/
LOCATION:TC Waldershof\, Rodenzennreuther Str. 20\, Waldershof\, Bayern\, 95679\, Germany
CATEGORIES:Damen Nordliga 2 Gr. 095
END:VEVENT
BEGIN:VEVENT
DTSTART;TZID=UTC:20260614T100000
DTEND;TZID=UTC:20260614T140000
DTSTAMP:20260422T032228
CREATED:20260316T123503Z
LAST-MODIFIED:20260421T143221Z
UID:2008-1781431200-1781445600@tcwaldershof.de
SUMMARY:Herren (Heim)
DESCRIPTION:TEG Steinwald-Fichtelgebirge – ATV 1873 Frankonia Nbg II \nWegbeschreibung zum Tennisclub Waldershof:
URL:https://tcwaldershof.de/event/herren-heim-5/
LOCATION:TC Waldershof\, Rodenzennreuther Str. 20\, Waldershof\, Bayern\, 95679\, Germany
CATEGORIES:Herren Landesliga 1 Gr. 122 NO
END:VEVENT
BEGIN:VEVENT
DTSTART;TZID=UTC:20260619T150000
DTEND;TZID=UTC:20260619T190000
DTSTAMP:20260422T032228
CREATED:20260317T061930Z
LAST-MODIFIED:20260317T061930Z
UID:2180-1781881200-1781895600@tcwaldershof.de
SUMMARY:Knaben 15 (A)
DESCRIPTION:TC Rehau – TeG Steinwald-Fichtelgebirge
URL:https://tcwaldershof.de/event/knaben-15-a-2/
LOCATION:TC Rehau\, Schützenstr. 26\, Rehau\, Bayern\, 95111\, Germany
CATEGORIES:Knaben 15 Nordliga 4 Gr. 384
END:VEVENT
BEGIN:VEVENT
DTSTART;TZID=UTC:20260619T150000
DTEND;TZID=UTC:20260619T190000
DTSTAMP:20260422T032228
CREATED:20260318T065646Z
LAST-MODIFIED:20260406T152836Z
UID:2230-1781881200-1781895600@tcwaldershof.de
SUMMARY:Kleinfeld U 9 (A)
DESCRIPTION:TC Rot-Weiß Bayreuth – TeG Steinwald-Fichtelgebirge \nAusschreibung U9 Kleinfeld
URL:https://tcwaldershof.de/event/kleinfeld-u-9-a/
LOCATION:TC Rot-Weiß Bayreuth\, Friedrich-Ebert-Str. 89\, Bayreuth\, Bayern\, 95448\, Germany
CATEGORIES:DunlopKleinfeld U9 Nordliga 2 Gr. 554
END:VEVENT
BEGIN:VEVENT
DTSTART;TZID=UTC:20260620T090000
DTEND;TZID=UTC:20260620T130000
DTSTAMP:20260422T032228
CREATED:20260317T060302Z
LAST-MODIFIED:20260421T143138Z
UID:2168-1781946000-1781960400@tcwaldershof.de
SUMMARY:Junioren 18 (Heim)
DESCRIPTION:TeG Steinwald-Fichtelgebirge – TC Kemnath \nWegbeschreibung zum Tennisclub Waldershof:
URL:https://tcwaldershof.de/event/junioren-18-heim-2/
LOCATION:TC Waldershof\, Rodenzennreuther Str. 20\, Waldershof\, Bayern\, 95679\, Germany
CATEGORIES:Junioren 18 Nordliga 3 Gr. 337
END:VEVENT
BEGIN:VEVENT
DTSTART;TZID=UTC:20260620T090000
DTEND;TZID=UTC:20260620T130000
DTSTAMP:20260422T032228
CREATED:20260317T063724Z
LAST-MODIFIED:20260317T063724Z
UID:2197-1781946000-1781960400@tcwaldershof.de
SUMMARY:Juniorinnen 18 (A)
DESCRIPTION:TC Hof – TeG Steinwald-Fichtelgebirge
URL:https://tcwaldershof.de/event/juniorinnen-18-a-3/
LOCATION:TC Hof\, An der Stadtgärtnerei 2\, Hof\, Bayern\, 95028\, Germany
CATEGORIES:Juniorinnen 18 Nordliga 3 Gr. 420
END:VEVENT
BEGIN:VEVENT
DTSTART;TZID=UTC:20260620T090000
DTEND;TZID=UTC:20260620T130000
DTSTAMP:20260422T032228
CREATED:20260317T064612Z
LAST-MODIFIED:20260421T143101Z
UID:2205-1781946000-1781960400@tcwaldershof.de
SUMMARY:Mixed 18 (Heim)
DESCRIPTION:TeG Steinwald-Fichtelgebirge – TC Selb \nWegbeschreibung zum Tennisclub Waldershof:
URL:https://tcwaldershof.de/event/mixed-18-heim/
LOCATION:TC Waldershof\, Rodenzennreuther Str. 20\, Waldershof\, Bayern\, 95679\, Germany
CATEGORIES:Mixed 18 Nordliga 1 Gr. 446
END:VEVENT
BEGIN:VEVENT
DTSTART;TZID=UTC:20260620T090000
DTEND;TZID=UTC:20260620T130000
DTSTAMP:20260422T032228
CREATED:20260318T055131Z
LAST-MODIFIED:20260318T055132Z
UID:2218-1781946000-1781960400@tcwaldershof.de
SUMMARY:Bambini 12 (A)
DESCRIPTION:SV Mitterteich – TeG Steinwald-Fichtelgebirge
URL:https://tcwaldershof.de/event/bambini-12-a-2/
LOCATION:SV Mitterteich\, Am Bad 4\, Mitterteich\, Bayern\, 95666\, Germany
CATEGORIES:Bambini 12 Nordliga 4 Gr. 489
END:VEVENT
BEGIN:VEVENT
DTSTART;TZID=UTC:20260620T140000
DTEND;TZID=UTC:20260620T180000
DTSTAMP:20260422T032228
CREATED:20260316T151911Z
LAST-MODIFIED:20260316T151912Z
UID:2107-1781964000-1781978400@tcwaldershof.de
SUMMARY:Herren 40 (A)
DESCRIPTION:DJK Neustadt/WN II – TeG Steinwald-Fichtelgebirge
URL:https://tcwaldershof.de/event/herren-40-a/
LOCATION:DJK Neustadt/WN II\, Am Sportplatz 1\, Neustadt\, Bayern\, 92660\, Germany
CATEGORIES:Herren 40 Nordliga 4 (4er) Gr. 209
END:VEVENT
BEGIN:VEVENT
DTSTART;TZID=UTC:20260620T140000
DTEND;TZID=UTC:20260620T180000
DTSTAMP:20260422T032228
CREATED:20260316T155815Z
LAST-MODIFIED:20260316T155815Z
UID:2122-1781964000-1781978400@tcwaldershof.de
SUMMARY:Herren 50 II (A)
DESCRIPTION:TG Neunkirchen – TeG Steinwald-Fichtelgebirge
URL:https://tcwaldershof.de/event/herren-50-ii-a-3/
LOCATION:TG Neunkirchen\, An den Weihern 24A\, Weiden in der Oberpfalz\, Bayern\, 92637\, Germany
CATEGORIES:Herren 50 Nordliga 3 (4er) Gr. 233
END:VEVENT
BEGIN:VEVENT
DTSTART;TZID=UTC:20260620T140000
DTEND;TZID=UTC:20260620T180000
DTSTAMP:20260422T032228
CREATED:20260316T161052Z
LAST-MODIFIED:20260421T143024Z
UID:2132-1781964000-1781978400@tcwaldershof.de
SUMMARY:Damen 30 II (Heim)
DESCRIPTION:TeG Steinwald-Fichtelgebirge – TB Marktleuthen \nWegbeschreibung zum Tennisclub Waldershof:
URL:https://tcwaldershof.de/event/damen-30-ii-heim-3/
LOCATION:TC Waldershof\, Rodenzennreuther Str. 20\, Waldershof\, Bayern\, 95679\, Germany
CATEGORIES:Damen 30 Nordliga 2 (4er) Gr. 282
END:VEVENT
BEGIN:VEVENT
DTSTART;TZID=UTC:20260620T140000
DTEND;TZID=UTC:20260620T180000
DTSTAMP:20260422T032228
CREATED:20260316T164136Z
LAST-MODIFIED:20260421T142943Z
UID:2150-1781964000-1781978400@tcwaldershof.de
SUMMARY:Damen 50 II (Heim)
DESCRIPTION:TeG Steinwald-Fichtelgebirge – TSV Hof \nWegbeschreibung zum Tennisclub Waldershof:
URL:https://tcwaldershof.de/event/damen-50-ii-heim-5/
LOCATION:TC Waldershof\, Rodenzennreuther Str. 20\, Waldershof\, Bayern\, 95679\, Germany
CATEGORIES:Damen 50 Nordliga 1 (4er) Gr. 308
END:VEVENT
BEGIN:VEVENT
DTSTART;TZID=UTC:20260621T090000
DTEND;TZID=UTC:20260621T130000
DTSTAMP:20260422T032228
CREATED:20260316T150659Z
LAST-MODIFIED:20260406T151213Z
UID:2097-1782032400-1782046800@tcwaldershof.de
SUMMARY:Damen (A)
DESCRIPTION:SV Neusorg – TeG Steinwald-Fichtelgebirge
URL:https://tcwaldershof.de/event/damen-ii-a-2/
LOCATION:SV Neusorg\, Steinwaldstr. 30\, Neusorg\, Bayern\, 95700\, Germany
CATEGORIES:Damen Nordliga 2 Gr. 095
END:VEVENT
BEGIN:VEVENT
DTSTART;TZID=UTC:20260621T100000
DTEND;TZID=UTC:20260621T140000
DTSTAMP:20260422T032228
CREATED:20260316T124054Z
LAST-MODIFIED:20260316T124055Z
UID:2010-1782036000-1782050400@tcwaldershof.de
SUMMARY:Herren (A)
DESCRIPTION:TC Rot-Weiß Cham – TeG Steinwald-Fichtelgebirge
URL:https://tcwaldershof.de/event/herren-a-5/
LOCATION:TC Rot-Weiß Cham\, Prälat-Wolker-Str. 3\, Cham\, Bayern\, 93413\, Germany
CATEGORIES:Herren Landesliga 1 Gr. 122 NO
ORGANIZER;CN="TC Rot Wei%C3%9F Cham":MAILTO:tc.rw.cham@gmail.com
END:VEVENT
BEGIN:VEVENT
DTSTART;TZID=UTC:20260621T100000
DTEND;TZID=UTC:20260621T140000
DTSTAMP:20260422T032228
CREATED:20260316T131704Z
LAST-MODIFIED:20260316T131705Z
UID:2030-1782036000-1782050400@tcwaldershof.de
SUMMARY:Herren 50 (A)
DESCRIPTION:TSV Oberisling – TeG Steinwald-Fichtelgebirge
URL:https://tcwaldershof.de/event/herren-50-a-2/
LOCATION:TSV Oberisling\, Lieperkingstr. 2\, Regensburg\, Bayern\, 93053\, Germany
CATEGORIES:Herren 50 Landesliga 2 Gr. 155 NO
END:VEVENT
BEGIN:VEVENT
DTSTART;TZID=UTC:20260621T100000
DTEND;TZID=UTC:20260621T140000
DTSTAMP:20260422T032228
CREATED:20260316T142318Z
LAST-MODIFIED:20260316T142318Z
UID:2062-1782036000-1782050400@tcwaldershof.de
SUMMARY:Damen 50 (A)
DESCRIPTION:TC Arzberg – TeG Steinwald-Fichtelgebirge
URL:https://tcwaldershof.de/event/damen-50-a-4/
LOCATION:TC Arzberg\, Flittermühle 2\, Arzberg\, Bayern\, 95659\, Germany
CATEGORIES:Damen 50 Landesliga 2 (4er) Gr. 203 NO
END:VEVENT
BEGIN:VEVENT
DTSTART;TZID=UTC:20260621T150000
DTEND;TZID=UTC:20260621T190000
DTSTAMP:20260422T032228
CREATED:20260318T070256Z
LAST-MODIFIED:20260406T153306Z
UID:2240-1782054000-1782068400@tcwaldershof.de
SUMMARY:Kleinfeld U 8 (A)
DESCRIPTION:TG Neunkirchen – TeG Steinwald-Fichtelgebirge \nAusschreibung U8 Kleinfeld
URL:https://tcwaldershof.de/event/kleinfeld-u-8-a-2/
LOCATION:TG Neunkirchen\, An den Weihern 24A\, Weiden in der Oberpfalz\, Bayern\, 92637\, Germany
CATEGORIES:DunlopKleinfeld U8 Nordliga 1 Gr. 576
END:VEVENT
BEGIN:VEVENT
DTSTART;TZID=UTC:20260626T150000
DTEND;TZID=UTC:20260626T190000
DTSTAMP:20260422T032228
CREATED:20260317T062055Z
LAST-MODIFIED:20260421T142912Z
UID:2182-1782486000-1782500400@tcwaldershof.de
SUMMARY:Knaben 15 (Heim)
DESCRIPTION:TeG Steinwald-Fichtelgebirge – TSV Hof \nWegbeschreibung zum Tennisclub Waldershof:
URL:https://tcwaldershof.de/event/knaben-15-heim-3/
LOCATION:TC Waldershof\, Rodenzennreuther Str. 20\, Waldershof\, Bayern\, 95679\, Germany
CATEGORIES:Knaben 15 Nordliga 4 Gr. 384
END:VEVENT
BEGIN:VEVENT
DTSTART;TZID=UTC:20260626T150000
DTEND;TZID=UTC:20260626T190000
DTSTAMP:20260422T032228
CREATED:20260318T065804Z
LAST-MODIFIED:20260406T152759Z
UID:2232-1782486000-1782500400@tcwaldershof.de
SUMMARY:Kleinfeld U 9 (A)
DESCRIPTION:TC Engelmannsreuth – TeG Steinwald-Fichtelgebirge \nAusschreibung U9 Kleinfeld
URL:https://tcwaldershof.de/event/kleinfeld-u-9-a-2/
LOCATION:TC Engelmannsreuth\, Am Breiten Weiher\, Engelmannsreuth\, Bayern\, 95473\, Germany
CATEGORIES:DunlopKleinfeld U9 Nordliga 2 Gr. 554
END:VEVENT
BEGIN:VEVENT
DTSTART;TZID=UTC:20260627T090000
DTEND;TZID=UTC:20260627T130000
DTSTAMP:20260422T032228
CREATED:20260316T164448Z
LAST-MODIFIED:20260316T164448Z
UID:2152-1782550800-1782565200@tcwaldershof.de
SUMMARY:Damen 50 II (A)
DESCRIPTION:SpVgg Schirmitz – TeG Steinwald-Fichtelgebirge
URL:https://tcwaldershof.de/event/damen-50-ii-a-6/
LOCATION:SpVgg Schirmitz\, Am Sportplatz 8\, Schirmitz\, Bayern\, 92718\, Germany
CATEGORIES:Damen 50 Nordliga 1 (4er) Gr. 308
END:VEVENT
END:VCALENDAR